Workbook

Sheet CURSOS
A1: Cursos de Formación y perfeccionamiento
A2: Podrá obtenerse una puntuación máxima de 1,25 puntos por haber realizado y superado cursos de formación y perfeccionamiento que se refieran a materias directamente relacionadas con las funciones de los puestos objeto de convocatoria, así como los cursos en materia de igualdad de oportunidades, y su duración hubiera sido igual o superior a 21 horas. Los cursos deberán estar organizados e impartidos por centros oficiales de formación para el funcionariado de esta administración o de otras administraciones Públicas o por Promotores de Planes de formación continua para el personal de las administraciones Públicas.Únicamente se valorarán los cursos que hayan sido realizados y superados en los 10 años inmediatamente anteriores a la fecha en que finalice el plazo de presentación de solicitudes para la participación en el presente concurso.
A3: Instrucciones: En el apartado DENOMINACIÓN se indicará el título del curso de formación (Ej. Prevención de Riesgos Laborales, CuOfimática Básica, …) En el epartado ENTIDAD se indicará la entidad organizadora del curso (Ej. Diputación de León, ECLAP, INAP, ...) En el apartado FECHA DE INICIO y FECHA FIN indicar las fechas de inicio o de fin que suelen aparecen en el Certificado o Diploma del curso en formato DD/MM/AAAA (Ej 10/11/2008,...). En caso de que no aparezcan ambas, indicar en la FECHA FIN la fecha del certificado del curso . En el apartado HORAS indicar el número de horas de formación del curso. En caso de que aparezca en créditos en el diploma, indicar su equivalencia en horas teniendo en cuenta que un crédito equivale a 10 horas y un crédito ECTS equivale a 25 horas
A4: RELLENAR
A5: DENOMINACIÓN | B5: ENTIDAD | C5: FECHA INICIO | D5: FECHA FIN | E5: Nº HORAS

Sheet Puestos solicitados
B1: PUESTOS DE TRABAJO SOLICITADOS
B2: PUESTOS DE TRABAJO | M2: =UPPER("Conciliación de la vida personal, familiar y laboral.") -> CONCILIACIÓN DE LA VIDA PERSONAL, FAMILIAR Y LABORAL.
B3: Seleccione por órden de preferencia los puesto de la columna CÓDIGO. Seleccione solo aquellos a los que quiere acceder, no deje huecos y no introduzca repetidos, ya que solo se tendría en cuenta el primero. | M3: Conforme a la Base octava punto 5. Cumplimentar según el puesto solicitado, si procede
A4: ORD. | B4: CÓDIGO | C4: TIPO | D4: SUBÁREA | E4: SERVICIO | F4: SECCIÓN | G4: DENOMINACIÓN | H4: GRUPO/ SUBGRUPO | I4: C.D. | J4: C.E. | K4: C.P. | L4: LOCALIDAD | M4: a) CÓNYUGE | N4: b) CUIDADO DE HIJOS/AS | O4: c) CUIDADO FAMILIAR
A5: 1 | C5: =IF(B5="","",VLOOKUP(B5,Hoja1!$A$2:$L$88,12,FALSE)) | D5: =IF(B5="","",VLOOKUP(B5,Hoja1!$A$2:$L$88,3,FALSE)) | E5: =IF(IF(B5="","",VLOOKUP(B5,Hoja1!$A$2:$L$88,4,FALSE))=0,"",IF(B5="","",VLOOKUP(B5,Hoja1!$A$2:$L$88,4,FALSE))) | F5: =IF(IF(B5="","",VLOOKUP(B5,Hoja1!$A$2:$L$88,5,FALSE))=0,"",IF(B5="","",VLOOKUP(B5,Hoja1!$A$2:$L$88,5,FALSE))) | G5: =IF(B5="","",VLOOKUP(B5,Hoja1!$A$2:$L$88,6,FALSE)) | H5: =IF(B5="","",VLOOKUP(B5,Hoja1!$A$2:$L$88,7,FALSE)) | I5: =IF(B5="","",VLOOKUP(B5,Hoja1!$A$2:$L$88,8,FALSE)) | J5: =IF(B5="","",VLOOKUP(B5,Hoja1!$A$2:$L$88,9,FALSE)) | K5: =IF(B5="","",VLOOKUP(B5,Hoja1!$A$2:$L$88,10,FALSE)) | L5: =IF(B5="","",VLOOKUP(B5,Hoja1!$A$2:$L$88,11,FALSE))
A6: 2 | C6: =IF(B6="","",VLOOKUP(B6,Hoja1!$A$2:$L$88,12,FALSE)) | D6: =IF(B6="","",VLOOKUP(B6,Hoja1!$A$2:$L$88,3,FALSE)) | E6: =IF(IF(B6="","",VLOOKUP(B6,Hoja1!$A$2:$L$88,4,FALSE))=0,"",IF(B6="","",VLOOKUP(B6,Hoja1!$A$2:$L$88,4,FALSE))) | F6: =IF(IF(B6="","",VLOOKUP(B6,Hoja1!$A$2:$L$88,5,FALSE))=0,"",IF(B6="","",VLOOKUP(B6,Hoja1!$A$2:$L$88,5,FALSE))) | G6: =IF(B6="","",VLOOKUP(B6,Hoja1!$A$2:$L$88,6,FALSE)) | H6: =IF(B6="","",VLOOKUP(B6,Hoja1!$A$2:$L$88,7,FALSE)) | I6: =IF(B6="","",VLOOKUP(B6,Hoja1!$A$2:$L$88,8,FALSE)) | J6: =IF(B6="","",VLOOKUP(B6,Hoja1!$A$2:$L$88,9,FALSE)) | K6: =IF(B6="","",VLOOKUP(B6,Hoja1!$A$2:$L$88,10,FALSE)) | L6: =IF(B6="","",VLOOKUP(B6,Hoja1!$A$2:$L$88,11,FALSE))
A7: 3 | C7: =IF(B7="","",VLOOKUP(B7,Hoja1!$A$2:$L$88,12,FALSE)) | D7: =IF(B7="","",VLOOKUP(B7,Hoja1!$A$2:$L$88,3,FALSE)) | E7: =IF(IF(B7="","",VLOOKUP(B7,Hoja1!$A$2:$L$88,4,FALSE))=0,"",IF(B7="","",VLOOKUP(B7,Hoja1!$A$2:$L$88,4,FALSE))) | F7: =IF(IF(B7="","",VLOOKUP(B7,Hoja1!$A$2:$L$88,5,FALSE))=0,"",IF(B7="","",VLOOKUP(B7,Hoja1!$A$2:$L$88,5,FALSE))) | G7: =IF(B7="","",VLOOKUP(B7,Hoja1!$A$2:$L$88,6,FALSE)) | H7: =IF(B7="","",VLOOKUP(B7,Hoja1!$A$2:$L$88,7,FALSE)) | I7: =IF(B7="","",VLOOKUP(B7,Hoja1!$A$2:$L$88,8,FALSE)) | J7: =IF(B7="","",VLOOKUP(B7,Hoja1!$A$2:$L$88,9,FALSE)) | K7: =IF(B7="","",VLOOKUP(B7,Hoja1!$A$2:$L$88,10,FALSE)) | L7: =IF(B7="","",VLOOKUP(B7,Hoja1!$A$2:$L$88,11,FALSE))
A8: 4 | C8: =IF(B8="","",VLOOKUP(B8,Hoja1!$A$2:$L$88,12,FALSE)) | D8: =IF(B8="","",VLOOKUP(B8,Hoja1!$A$2:$L$88,3,FALSE)) | E8: =IF(IF(B8="","",VLOOKUP(B8,Hoja1!$A$2:$L$88,4,FALSE))=0,"",IF(B8="","",VLOOKUP(B8,Hoja1!$A$2:$L$88,4,FALSE))) | F8: =IF(IF(B8="","",VLOOKUP(B8,Hoja1!$A$2:$L$88,5,FALSE))=0,"",IF(B8="","",VLOOKUP(B8,Hoja1!$A$2:$L$88,5,FALSE))) | G8: =IF(B8="","",VLOOKUP(B8,Hoja1!$A$2:$L$88,6,FALSE)) | H8: =IF(B8="","",VLOOKUP(B8,Hoja1!$A$2:$L$88,7,FALSE)) | I8: =IF(B8="","",VLOOKUP(B8,Hoja1!$A$2:$L$88,8,FALSE)) | J8: =IF(B8="","",VLOOKUP(B8,Hoja1!$A$2:$L$88,9,FALSE)) | K8: =IF(B8="","",VLOOKUP(B8,Hoja1!$A$2:$L$88,10,FALSE)) | L8: =IF(B8="","",VLOOKUP(B8,Hoja1!$A$2:$L$88,11,FALSE))
A9: 5 | C9: =IF(B9="","",VLOOKUP(B9,Hoja1!$A$2:$L$88,12,FALSE)) | D9: =IF(B9="","",VLOOKUP(B9,Hoja1!$A$2:$L$88,3,FALSE)) | E9: =IF(IF(B9="","",VLOOKUP(B9,Hoja1!$A$2:$L$88,4,FALSE))=0,"",IF(B9="","",VLOOKUP(B9,Hoja1!$A$2:$L$88,4,FALSE))) | F9: =IF(IF(B9="","",VLOOKUP(B9,Hoja1!$A$2:$L$88,5,FALSE))=0,"",IF(B9="","",VLOOKUP(B9,Hoja1!$A$2:$L$88,5,FALSE))) | G9: =IF(B9="","",VLOOKUP(B9,Hoja1!$A$2:$L$88,6,FALSE)) | H9: =IF(B9="","",VLOOKUP(B9,Hoja1!$A$2:$L$88,7,FALSE)) | I9: =IF(B9="","",VLOOKUP(B9,Hoja1!$A$2:$L$88,8,FALSE)) | J9: =IF(B9="","",VLOOKUP(B9,Hoja1!$A$2:$L$88,9,FALSE)) | K9: =IF(B9="","",VLOOKUP(B9,Hoja1!$A$2:$L$88,10,FALSE)) | L9: =IF(B9="","",VLOOKUP(B9,Hoja1!$A$2:$L$88,11,FALSE))
A10: 6 | C10: =IF(B10="","",VLOOKUP(B10,Hoja1!$A$2:$L$88,12,FALSE)) | D10: =IF(B10="","",VLOOKUP(B10,Hoja1!$A$2:$L$88,3,FALSE)) | E10: =IF(IF(B10="","",VLOOKUP(B10,Hoja1!$A$2:$L$88,4,FALSE))=0,"",IF(B10="","",VLOOKUP(B10,Hoja1!$A$2:$L$88,4,FALSE))) | F10: =IF(IF(B10="","",VLOOKUP(B10,Hoja1!$A$2:$L$88,5,FALSE))=0,"",IF(B10="","",VLOOKUP(B10,Hoja1!$A$2:$L$88,5,FALSE))) | G10: =IF(B10="","",VLOOKUP(B10,Hoja1!$A$2:$L$88,6,FALSE)) | H10: =IF(B10="","",VLOOKUP(B10,Hoja1!$A$2:$L$88,7,FALSE)) | I10: =IF(B10="","",VLOOKUP(B10,Hoja1!$A$2:$L$88,8,FALSE)) | J10: =IF(B10="","",VLOOKUP(B10,Hoja1!$A$2:$L$88,9,FALSE)) | K10: =IF(B10="","",VLOOKUP(B10,Hoja1!$A$2:$L$88,10,FALSE)) | L10: =IF(B10="","",VLOOKUP(B10,Hoja1!$A$2:$L$88,11,FALSE))
A11: 7 | C11: =IF(B11="","",VLOOKUP(B11,Hoja1!$A$2:$L$88,12,FALSE)) | D11: =IF(B11="","",VLOOKUP(B11,Hoja1!$A$2:$L$88,3,FALSE)) | E11: =IF(IF(B11="","",VLOOKUP(B11,Hoja1!$A$2:$L$88,4,FALSE))=0,"",IF(B11="","",VLOOKUP(B11,Hoja1!$A$2:$L$88,4,FALSE))) | F11: =IF(IF(B11="","",VLOOKUP(B11,Hoja1!$A$2:$L$88,5,FALSE))=0,"",IF(B11="","",VLOOKUP(B11,Hoja1!$A$2:$L$88,5,FALSE))) | G11: =IF(B11="","",VLOOKUP(B11,Hoja1!$A$2:$L$88,6,FALSE)) | H11: =IF(B11="","",VLOOKUP(B11,Hoja1!$A$2:$L$88,7,FALSE)) | I11: =IF(B11="","",VLOOKUP(B11,Hoja1!$A$2:$L$88,8,FALSE)) | J11: =IF(B11="","",VLOOKUP(B11,Hoja1!$A$2:$L$88,9,FALSE)) | K11: =IF(B11="","",VLOOKUP(B11,Hoja1!$A$2:$L$88,10,FALSE)) | L11: =IF(B11="","",VLOOKUP(B11,Hoja1!$A$2:$L$88,11,FALSE))
A12: 8 | C12: =IF(B12="","",VLOOKUP(B12,Hoja1!$A$2:$L$88,12,FALSE)) | D12: =IF(B12="","",VLOOKUP(B12,Hoja1!$A$2:$L$88,3,FALSE)) | E12: =IF(IF(B12="","",VLOOKUP(B12,Hoja1!$A$2:$L$88,4,FALSE))=0,"",IF(B12="","",VLOOKUP(B12,Hoja1!$A$2:$L$88,4,FALSE))) | F12: =IF(IF(B12="","",VLOOKUP(B12,Hoja1!$A$2:$L$88,5,FALSE))=0,"",IF(B12="","",VLOOKUP(B12,Hoja1!$A$2:$L$88,5,FALSE))) | G12: =IF(B12="","",VLOOKUP(B12,Hoja1!$A$2:$L$88,6,FALSE)) | H12: =IF(B12="","",VLOOKUP(B12,Hoja1!$A$2:$L$88,7,FALSE)) | I12: =IF(B12="","",VLOOKUP(B12,Hoja1!$A$2:$L$88,8,FALSE)) | J12: =IF(B12="","",VLOOKUP(B12,Hoja1!$A$2:$L$88,9,FALSE)) | K12: =IF(B12="","",VLOOKUP(B12,Hoja1!$A$2:$L$88,10,FALSE)) | L12: =IF(B12="","",VLOOKUP(B12,Hoja1!$A$2:$L$88,11,FALSE))
A13: 9 | C13: =IF(B13="","",VLOOKUP(B13,Hoja1!$A$2:$L$88,12,FALSE)) | D13: =IF(B13="","",VLOOKUP(B13,Hoja1!$A$2:$L$88,3,FALSE)) | E13: =IF(IF(B13="","",VLOOKUP(B13,Hoja1!$A$2:$L$88,4,FALSE))=0,"",IF(B13="","",VLOOKUP(B13,Hoja1!$A$2:$L$88,4,FALSE))) | F13: =IF(IF(B13="","",VLOOKUP(B13,Hoja1!$A$2:$L$88,5,FALSE))=0,"",IF(B13="","",VLOOKUP(B13,Hoja1!$A$2:$L$88,5,FALSE))) | G13: =IF(B13="","",VLOOKUP(B13,Hoja1!$A$2:$L$88,6,FALSE)) | H13: =IF(B13="","",VLOOKUP(B13,Hoja1!$A$2:$L$88,7,FALSE)) | I13: =IF(B13="","",VLOOKUP(B13,Hoja1!$A$2:$L$88,8,FALSE)) | J13: =IF(B13="","",VLOOKUP(B13,Hoja1!$A$2:$L$88,9,FALSE)) | K13: =IF(B13="","",VLOOKUP(B13,Hoja1!$A$2:$L$88,10,FALSE)) | L13: =IF(B13="","",VLOOKUP(B13,Hoja1!$A$2:$L$88,11,FALSE))
A14: 10 | C14: =IF(B14="","",VLOOKUP(B14,Hoja1!$A$2:$L$88,12,FALSE)) | D14: =IF(B14="","",VLOOKUP(B14,Hoja1!$A$2:$L$88,3,FALSE)) | E14: =IF(IF(B14="","",VLOOKUP(B14,Hoja1!$A$2:$L$88,4,FALSE))=0,"",IF(B14="","",VLOOKUP(B14,Hoja1!$A$2:$L$88,4,FALSE))) | F14: =IF(IF(B14="","",VLOOKUP(B14,Hoja1!$A$2:$L$88,5,FALSE))=0,"",IF(B14="","",VLOOKUP(B14,Hoja1!$A$2:$L$88,5,FALSE))) | G14: =IF(B14="","",VLOOKUP(B14,Hoja1!$A$2:$L$88,6,FALSE)) | H14: =IF(B14="","",VLOOKUP(B14,Hoja1!$A$2:$L$88,7,FALSE)) | I14: =IF(B14="","",VLOOKUP(B14,Hoja1!$A$2:$L$88,8,FALSE)) | J14: =IF(B14="","",VLOOKUP(B14,Hoja1!$A$2:$L$88,9,FALSE)) | K14: =IF(B14="","",VLOOKUP(B14,Hoja1!$A$2:$L$88,10,FALSE)) | L14: =IF(B14="","",VLOOKUP(B14,Hoja1!$A$2:$L$88,11,FALSE))
A15: 11 | C15: =IF(B15="","",VLOOKUP(B15,Hoja1!$A$2:$L$88,12,FALSE)) | D15: =IF(B15="","",VLOOKUP(B15,Hoja1!$A$2:$L$88,3,FALSE)) | E15: =IF(IF(B15="","",VLOOKUP(B15,Hoja1!$A$2:$L$88,4,FALSE))=0,"",IF(B15="","",VLOOKUP(B15,Hoja1!$A$2:$L$88,4,FALSE))) | F15: =IF(IF(B15="","",VLOOKUP(B15,Hoja1!$A$2:$L$88,5,FALSE))=0,"",IF(B15="","",VLOOKUP(B15,Hoja1!$A$2:$L$88,5,FALSE))) | G15: =IF(B15="","",VLOOKUP(B15,Hoja1!$A$2:$L$88,6,FALSE)) | H15: =IF(B15="","",VLOOKUP(B15,Hoja1!$A$2:$L$88,7,FALSE)) | I15: =IF(B15="","",VLOOKUP(B15,Hoja1!$A$2:$L$88,8,FALSE)) | J15: =IF(B15="","",VLOOKUP(B15,Hoja1!$A$2:$L$88,9,FALSE)) | K15: =IF(B15="","",VLOOKUP(B15,Hoja1!$A$2:$L$88,10,FALSE)) | L15: =IF(B15="","",VLOOKUP(B15,Hoja1!$A$2:$L$88,11,FALSE))
A16: 12 | C16: =IF(B16="","",VLOOKUP(B16,Hoja1!$A$2:$L$88,12,FALSE)) | D16: =IF(B16="","",VLOOKUP(B16,Hoja1!$A$2:$L$88,3,FALSE)) | E16: =IF(IF(B16="","",VLOOKUP(B16,Hoja1!$A$2:$L$88,4,FALSE))=0,"",IF(B16="","",VLOOKUP(B16,Hoja1!$A$2:$L$88,4,FALSE))) | F16: =IF(IF(B16="","",VLOOKUP(B16,Hoja1!$A$2:$L$88,5,FALSE))=0,"",IF(B16="","",VLOOKUP(B16,Hoja1!$A$2:$L$88,5,FALSE))) | G16: =IF(B16="","",VLOOKUP(B16,Hoja1!$A$2:$L$88,6,FALSE)) | H16: =IF(B16="","",VLOOKUP(B16,Hoja1!$A$2:$L$88,7,FALSE)) | I16: =IF(B16="","",VLOOKUP(B16,Hoja1!$A$2:$L$88,8,FALSE)) | J16: =IF(B16="","",VLOOKUP(B16,Hoja1!$A$2:$L$88,9,FALSE)) | K16: =IF(B16="","",VLOOKUP(B16,Hoja1!$A$2:$L$88,10,FALSE)) | L16: =IF(B16="","",VLOOKUP(B16,Hoja1!$A$2:$L$88,11,FALSE))
... A92: 88 | C92: =IF(B92="","",VLOOKUP(B92,Hoja1!$A$2:$L$88,12,FALSE)) | D92: =IF(B92="","",VLOOKUP(B92,Hoja1!$A$2:$L$88,3,FALSE)) | E92: =IF(IF(B92="","",VLOOKUP(B92,Hoja1!$A$2:$L$88,4,FALSE))=0,"",IF(B92="","",VLOOKUP(B92,Hoja1!$A$2:$L$88,4,FALSE))) | F92: =IF(IF(B92="","",VLOOKUP(B92,Hoja1!$A$2:$L$88,5,FALSE))=0,"",IF(B92="","",VLOOKUP(B92,Hoja1!$A$2:$L$88,5,FALSE))) | G92: =IF(B92="","",VLOOKUP(B92,Hoja1!$A$2:$L$88,6,FALSE)) | H92: =IF(B92="","",VLOOKUP(B92,Hoja1!$A$2:$L$88,7,FALSE)) | I92: =IF(B92="","",VLOOKUP(B92,Hoja1!$A$2:$L$88,8,FALSE)) | J92: =IF(B92="","",VLOOKUP(B92,Hoja1!$A$2:$L$88,9,FALSE)) | K92: =IF(B92="","",VLOOKUP(B92,Hoja1!$A$2:$L$88,10,FALSE)) | L92: =IF(B92="","",VLOOKUP(B92,Hoja1!$A$2:$L$88,11,FALSE))

Sheet Hoja1
A1: CÓDIGO | B1: ÁREA | C1: SUBÁREA | D1: SERVICIO | E1: SECCIÓN | F1: DENOMINACIÓN PUESTO | G1: GR. | H1: C.D. | I1: C.E. | J1: C.P. | K1: LOCALIDAD | L1: TIPO
A2: 11100103 | C2: SECRETARIA GENERAL | D2: ASUNTOS GENERALES | F2: ADMINISTRATIVO/A | G2: C1 | H2: 19 | I2: 42 | J2: 36 | K2: LEÓN | L2: VACANTE
A3: 11122101 | C3: SECRETARIA GENERAL | D3: ASUNTOS GENERALES | E3: REGISTRO | F3: JEFE/A DE NEGOCIADO | G3: C1/C2 | H3: 18 | I3: 36 | J3: 27 | K3: LEÓN | L3: VACANTE
A4: 11161101 | C4: SECRETARIA GENERAL | D4: ASUNTOS GENERALES | E4: TRANSPARENCIA,REL.INSTITUC.Y COMUNICACIONES | F4: JEFE/A DE NEGOCIADO | G4: C1 | H4: 20 | I4: 33 | J4: 27 | K4: LEÓN | L4: VACANTE
A5: 11301101 | C5: SECRETARIA GENERAL | D5: CONTRATACION Y PATRIMONIO | F5: JEFE/A DE NEGOCIADO | G5: C1 | H5: 20 | I5: 33 | J5: 27 | K5: LEÓN | L5: VACANTE
A6: 11332101 | C6: SECRETARIA GENERAL | D6: CONTRATACION Y PATRIMONIO | E6: CONTRATACIÓN Y PATRIMONIO | F6: JEFE/A DE NEGOCIADO | G6: C1 | H6: 20 | I6: 33 | J6: 27 | K6: LEÓN | L6: VACANTE
A7: 12000112 | C7: INTERVENCION | F7: ADMINISTRATIVO/A | G7: C1 | H7: 19 | I7: 42 | J7: 36 | K7: LEÓN | L7: VACANTE
A8: 12000117 | C8: INTERVENCION | F8: ADMINISTRATIVO/A | G8: C1 | H8: 19 | I8: 42 | J8: 36 | K8: LEÓN | L8: VACANTE
A9: 12421101 | C9: INTERVENCION | D9: FUNCIÓN INTERVENTORA | E9: SUBVENCIONES Y PLANES PROVINCIALES | F9: JEFE/A DE NEGOCIADO | G9: C1 | H9: 20 | I9: 33 | J9: 27 | K9: LEÓN | L9: VACANTE
A10: 13001101 | C10: TESORERIA | F10: JEFE/A DE NEGOCIADO | G10: C1 | H10: 20 | I10: 33 | J10: 27 | K10: LEÓN | L10: VACANTE
A11: 13100110 | C11: TESORERIA | D11: GESTIÓN, INSPEC.Y RECAUDAC.TRIBUTARIA | F11: ADMINISTRATIVO/A | G11: C1 | H11: 19 | I11: 42 | J11: 36 | K11: LEÓN | L11: VACANTE
A12: 13100117 | C12: TESORERIA | D12: GESTIÓN, INSPEC.Y RECAUDAC.TRIBUTARIA | F12: ADMINISTRATIVO/A | G12: C1 | H12: 19 | I12: 42 | J12: 36 | K12: LEÓN | L12: VACANTE
A13: 13100118 | C13: TESORERIA | D13: GESTIÓN, INSPEC.Y RECAUDAC.TRIBUTARIA | F13: ADMINISTRATIVO/A | G13: C1 | H13: 19 | I13: 42 | J13: 36 | K13: LEÓN | L13: VACANTE
A14: 30200103 | D14: EMPRESA, CONOCIMIENTOS E INNOV | F14: ADMINISTRATIVO/A | G14: C1 | H14: 19 | I14: 42 | J14: 36 | K14: LEÓN | L14: VACANTE
A15: 30301101 | D15: TURISMO | F15: JEFE/A DE NEGOCIADO | G15: C1 | H15: 20 | I15: 33 | J15: 27 | K15: LEÓN | L15: VACANTE
A16: 30302101 | D16: TURISMO | F16: JEFE/A DE NEGOCIADO | G16: C1 | H16: 20 | I16: 33 | J16: 27 | K16: LEÓN | L16: VACANTE
A17: 40100112 | D17: COOPERACION | F17: ADMINISTRATIVO/A | G17: C1 | H17: 19 | I17: 42 | J17: 36 | K17: LEÓN | L17: VACANTE
A18: 40100113 | D18: COOPERACION | F18: ADMINISTRATIVO/A | G18: C1 | H18: 19 | I18: 42 | J18: 36 | K18: LEÓN | L18: VACANTE
A19: 40200143 | D19: SERVICIO ASISTENCIA A MUNICIPIOS | F19: ADMINISTRATIVO/A | G19: C1 | H19: 19 | I19: 42 | J19: 36 | K19: LEÓN | L19: VACANTE
A20: 40200144 | D20: SERVICIO ASISTENCIA A MUNICIPIOS | F20: ADMINISTRATIVO/A | G20: C1 | H20: 19 | I20: 42 | J20: 36 | K20: LEÓN | L20: VACANTE
A21: 40200145 | D21: SERVICIO ASISTENCIA A MUNICIPIOS | F21: ADMINISTRATIVO/A | G21: C1 | H21: 19 | I21: 42 | J21: 36 | K21: LEÓN | L21: VACANTE
A22: 40203101 | D22: SERVICIO ASISTENCIA A MUNICIPIOS | F22: JEFE/A DE NEGOCIADO | G22: C1 | H22: 20 | I22: 33 | J22: 27 | K22: LEÓN | L22: VACANTE
A23: 40204101 | D23: SERVICIO ASISTENCIA A MUNICIPIOS | F23: JEFE/A DE NEGOCIADO | G23: C1 | H23: 20 | I23: 33 | J23: 27 | K23: LEÓN | L23: VACANTE
A24: 40300108 | D24: FOMENTO | F24: ADMINISTRATIVO/A | G24: C1 | H24: 19 | I24: 42 | J24: 36 | K24: LEÓN | L24: VACANTE
A25: 40300109 | D25: FOMENTO | F25: ADMINISTRATIVO/A | G25: C1 | H25: 19 | I25: 42 | J25: 36 | K25: LEÓN | L25: VACANTE
... A30: 50100112 | D30: DERECHOS SOCIALES | F30: ADMINISTRATIVO/A | G30: C1 | H30: 19 | I30: 42 | J30: 36 | K30: LEÓN | L30: VACANTE
A31: 50121101 | D31: DERECHOS SOCIALES | E31: COORDINACIÓN SERVICIOS BÁSICOS | F31: JEFE/A DE NEGOCIADO | G31: C1 | H31: 20 | I31: 33 | J31: 27 | K31: LEÓN | L31: VACANTE
A32: 50151101 | D32: DERECHOS SOCIALES | E32: DEPENDENCIA | F32: JEFE/A DE NEGOCIADO | G32: C1/C2 | H32: 18 | I32: 36 | J32: 27 | K32: LEÓN | L32: VACANTE
A33: 50201101 | D33: CENTROS ATENCIÓN ESPECIALIZADA | F33: JEFE/A DE NEGOCIADO | G33: C1 | H33: 20 | I33: 33 | J33: 27 | K33: LEÓN | L33: VACANTE
A34: 50210114 | D34: CENTROS ATENCIÓN ESPECIALIZADA | E34: CENTRO NUESTRA SEÑORA DEL VALL | F34: ADMINISTRADOR/A | G34: C1 | H34: 20 | I34: 33 | J34: 27 | K34: LA BAÑEZA | L34: VACANTE
A35: 60100106 | D35: DEPORTES | F35: ADMINISTRATIVO/A | G35: C1 | H35: 19 | I35: 42 | J35: 36 | K35: LEÓN | L35: VACANTE
A36: 60100107 | D36: DEPORTES | F36: ADMINISTRATIVO/A | G36: C1 | H36: 19 | I36: 42 | J36: 36 | K36: LEÓN | L36: VACANTE
A37: 61400104 | C37: ILC | D37: INTERVENCIÓN - FISCALIZACIÓN | F37: ADMINISTRATIVO/A | G37: C1 | H37: 19 | I37: 42 | J37: 36 | K37: LEÓN | L37: VACANTE
A38: 11100104 | C38: SECRETARIA GENERAL | D38: ASUNTOS GENERALES | F38: ADMINISTRATIVO/A | G38: C1 | H38: 19 | I38: 42 | J38: 36 | K38: LEÓN | L38: A RESULTAS
A39: 11111101 | C39: SECRETARIA GENERAL | D39: ASUNTOS GENERALES | E39: FE PUBLICA | F39: JEFE/A DE NEGOCIADO | G39: C1 | H39: 20 | I39: 33 | J39: 27 | K39: LEÓN | L39: A RESULTAS
A40: 11121101 | C40: SECRETARIA GENERAL | D40: ASUNTOS GENERALES | E40: REGISTRO | F40: JEFE/A DE NEGOCIADO | G40: C1 | H40: 20 | I40: 33 | J40: 27 | K40: LEÓN | L40: A RESULTAS
A41: 11123101 | C41: SECRETARIA GENERAL | D41: ASUNTOS GENERALES | E41: REGISTRO | F41: JEFE/A DE NEGOCIADO | G41: C1/C2 | H41: 18 | I41: 36 | J41: 27 | K41: PONFERRADA | L41: A RESULTAS
A42: 11141101 | C42: SECRETARIA GENERAL | D42: ASUNTOS GENERALES | E42: INFORMES Y DOCUMENTACION ADMVA. | F42: JEFE/A DE NEGOCIADO | G42: C1/C2 | H42: 18 | I42: 36 | J42: 27 | K42: LEÓN | L42: A RESULTAS
A43: 11333101 | C43: SECRETARIA GENERAL | D43: CONTRATACION Y PATRIMONIO | E43: CONTRATACIÓN Y PATRIMONIO | F43: JEFE/A DE NEGOCIADO | G43: C1/C2 | H43: 18 | I43: 36 | J43: 27 | K43: LEÓN | L43: A RESULTAS
A44: 12000110 | C44: INTERVENCION | F44: ADMINISTRATIVO/A | G44: C1 | H44: 19 | I44: 42 | J44: 36 | K44: LEÓN | L44: A RESULTAS
...
