Workbook

Sheet CURSOS
A1: Cursos de Formación y perfeccionamiento
A2: Podrá obtenerse una puntuación máxima de 1,25 puntos por haber realizado y superado cursos de formación y perfeccionamiento que se refieran a materias directamente relacionadas con las funciones de los puestos objeto de convocatoria, así como los cursos en materia de igualdad de oportunidades, y su duración hubiera sido igual o superior a 21 horas. Los cursos deberán estar organizados e impartidos por centros oficiales de formación para el funcionariado de esta administración o de otras administraciones Públicas o por Promotores de Planes de formación continua para el personal de las administraciones Públicas.Únicamente se valorarán los cursos que hayan sido realizados y superados en los 10 años inmediatamente anteriores a la fecha en que finalice el plazo de presentación de solicitudes para la participación en el presente concurso.
A3: Instrucciones: En el apartado DENOMINACIÓN se indicará el título del curso de formación (Ej. Prevención de Riesgos Laborales, CuOfimática Básica, …) En el epartado ENTIDAD se indicará la entidad organizadora del curso (Ej. Diputación de León, ECLAP, INAP, ...) En el apartado FECHA DE INICIO y FECHA FIN indicar las fechas de inicio o de fin que suelen aparecen en el Certificado o Diploma del curso en formato DD/MM/AAAA (Ej 10/11/2008,...). En caso de que no aparezcan ambas, indicar en la FECHA FIN la fecha del certificado del curso . En el apartado HORAS indicar el número de horas de formación del curso. En caso de que aparezca en créditos en el diploma, indicar su equivalencia en horas teniendo en cuenta que un crédito equivale a 10 horas y un crédito ECTS equivale a 25 horas
A4: RELLENAR
A5: DENOMINACIÓN | B5: ENTIDAD | C5: FECHA INICIO | D5: FECHA FIN | E5: Nº HORAS

Sheet Puestos solicitados
B1: PUESTOS DE TRABAJO SOLICITADOS
B2: PUESTOS DE TRABAJO | M2: =UPPER("Conciliación de la vida personal, familiar y laboral.") -> CONCILIACIÓN DE LA VIDA PERSONAL, FAMILIAR Y LABORAL.
B3: Seleccione por órden de preferencia los puesto de la columna CÓDIGO. Seleccione solo aquellos a los que quiere acceder, no deje huecos y no introduzca repetidos, ya que solo se tendría en cuenta el primero. | M3: Conforme a la Base octava punto 5. Cumplimentar según el puesto solicitado, si procede
A4: ORD. | B4: CÓDIGO | C4: TIPO | D4: SUBÁREA | E4: SERVICIO | F4: SECCIÓN | G4: DENOMINACIÓN | H4: GRUPO/ SUBGRUPO | I4: C.D. | J4: C.E. | K4: C.P. | L4: LOCALIDAD | M4: a) CÓNYUGE | N4: b) CUIDADO DE HIJOS/AS | O4: c) CUIDADO FAMILIAR
A5: 1 | C5: =IF(B5="","",VLOOKUP(B5,Hoja1!$A$2:$L$88,12,FALSE)) | D5: =IF(B5="","",VLOOKUP(B5,Hoja1!$A$2:$L$88,3,FALSE)) | E5: =IF(IF(B5="","",VLOOKUP(B5,Hoja1!$A$2:$L$88,4,FALSE))=0,"",IF(B5="","",VLOOKUP(B5,Hoja1!$A$2:$L$88,4,FALSE))) | F5: =IF(IF(B5="","",VLOOKUP(B5,Hoja1!$A$2:$L$88,5,FALSE))=0,"",IF(B5="","",VLOOKUP(B5,Hoja1!$A$2:$L$88,5,FALSE))) | G5: =IF(B5="","",VLOOKUP(B5,Hoja1!$A$2:$L$88,6,FALSE)) | H5: =IF(B5="","",VLOOKUP(B5,Hoja1!$A$2:$L$88,7,FALSE)) | I5: =IF(B5="","",VLOOKUP(B5,Hoja1!$A$2:$L$88,8,FALSE)) | J5: =IF(B5="","",VLOOKUP(B5,Hoja1!$A$2:$L$88,9,FALSE)) | K5: =IF(B5="","",VLOOKUP(B5,Hoja1!$A$2:$L$88,10,FALSE)) | L5: =IF(B5="","",VLOOKUP(B5,Hoja1!$A$2:$L$88,11,FALSE))
A6: 2 | C6: =IF(B6="","",VLOOKUP(B6,Hoja1!$A$2:$L$88,12,FALSE)) | D6: =IF(B6="","",VLOOKUP(B6,Hoja1!$A$2:$L$88,3,FALSE)) | E6: =IF(IF(B6="","",VLOOKUP(B6,Hoja1!$A$2:$L$88,4,FALSE))=0,"",IF(B6="","",VLOOKUP(B6,Hoja1!$A$2:$L$88,4,FALSE))) | F6: =IF(IF(B6="","",VLOOKUP(B6,Hoja1!$A$2:$L$88,5,FALSE))=0,"",IF(B6="","",VLOOKUP(B6,Hoja1!$A$2:$L$88,5,FALSE))) | G6: =IF(B6="","",VLOOKUP(B6,Hoja1!$A$2:$L$88,6,FALSE)) | H6: =IF(B6="","",VLOOKUP(B6,Hoja1!$A$2:$L$88,7,FALSE)) | I6: =IF(B6="","",VLOOKUP(B6,Hoja1!$A$2:$L$88,8,FALSE)) | J6: =IF(B6="","",VLOOKUP(B6,Hoja1!$A$2:$L$88,9,FALSE)) | K6: =IF(B6="","",VLOOKUP(B6,Hoja1!$A$2:$L$88,10,FALSE)) | L6: =IF(B6="","",VLOOKUP(B6,Hoja1!$A$2:$L$88,11,FALSE))
A7: 3 | C7: =IF(B7="","",VLOOKUP(B7,Hoja1!$A$2:$L$88,12,FALSE)) | D7: =IF(B7="","",VLOOKUP(B7,Hoja1!$A$2:$L$88,3,FALSE)) | E7: =IF(IF(B7="","",VLOOKUP(B7,Hoja1!$A$2:$L$88,4,FALSE))=0,"",IF(B7="","",VLOOKUP(B7,Hoja1!$A$2:$L$88,4,FALSE))) | F7: =IF(IF(B7="","",VLOOKUP(B7,Hoja1!$A$2:$L$88,5,FALSE))=0,"",IF(B7="","",VLOOKUP(B7,Hoja1!$A$2:$L$88,5,FALSE))) | G7: =IF(B7="","",VLOOKUP(B7,Hoja1!$A$2:$L$88,6,FALSE)) | H7: =IF(B7="","",VLOOKUP(B7,Hoja1!$A$2:$L$88,7,FALSE)) | I7: =IF(B7="","",VLOOKUP(B7,Hoja1!$A$2:$L$88,8,FALSE)) | J7: =IF(B7="","",VLOOKUP(B7,Hoja1!$A$2:$L$88,9,FALSE)) | K7: =IF(B7="","",VLOOKUP(B7,Hoja1!$A$2:$L$88,10,FALSE)) | L7: =IF(B7="","",VLOOKUP(B7,Hoja1!$A$2:$L$88,11,FALSE))
A8: 4 | C8: =IF(B8="","",VLOOKUP(B8,Hoja1!$A$2:$L$88,12,FALSE)) | D8: =IF(B8="","",VLOOKUP(B8,Hoja1!$A$2:$L$88,3,FALSE)) | E8: =IF(IF(B8="","",VLOOKUP(B8,Hoja1!$A$2:$L$88,4,FALSE))=0,"",IF(B8="","",VLOOKUP(B8,Hoja1!$A$2:$L$88,4,FALSE))) | F8: =IF(IF(B8="","",VLOOKUP(B8,Hoja1!$A$2:$L$88,5,FALSE))=0,"",IF(B8="","",VLOOKUP(B8,Hoja1!$A$2:$L$88,5,FALSE))) | G8: =IF(B8="","",VLOOKUP(B8,Hoja1!$A$2:$L$88,6,FALSE)) | H8: =IF(B8="","",VLOOKUP(B8,Hoja1!$A$2:$L$88,7,FALSE)) | I8: =IF(B8="","",VLOOKUP(B8,Hoja1!$A$2:$L$88,8,FALSE)) | J8: =IF(B8="","",VLOOKUP(B8,Hoja1!$A$2:$L$88,9,FALSE)) | K8: =IF(B8="","",VLOOKUP(B8,Hoja1!$A$2:$L$88,10,FALSE)) | L8: =IF(B8="","",VLOOKUP(B8,Hoja1!$A$2:$L$88,11,FALSE))
A9: 5 | C9: =IF(B9="","",VLOOKUP(B9,Hoja1!$A$2:$L$88,12,FALSE)) | D9: =IF(B9="","",VLOOKUP(B9,Hoja1!$A$2:$L$88,3,FALSE)) | E9: =IF(IF(B9="","",VLOOKUP(B9,Hoja1!$A$2:$L$88,4,FALSE))=0,"",IF(B9="","",VLOOKUP(B9,Hoja1!$A$2:$L$88,4,FALSE))) | F9: =IF(IF(B9="","",VLOOKUP(B9,Hoja1!$A$2:$L$88,5,FALSE))=0,"",IF(B9="","",VLOOKUP(B9,Hoja1!$A$2:$L$88,5,FALSE))) | G9: =IF(B9="","",VLOOKUP(B9,Hoja1!$A$2:$L$88,6,FALSE)) | H9: =IF(B9="","",VLOOKUP(B9,Hoja1!$A$2:$L$88,7,FALSE)) | I9: =IF(B9="","",VLOOKUP(B9,Hoja1!$A$2:$L$88,8,FALSE)) | J9: =IF(B9="","",VLOOKUP(B9,Hoja1!$A$2:$L$88,9,FALSE)) | K9: =IF(B9="","",VLOOKUP(B9,Hoja1!$A$2:$L$88,10,FALSE)) | L9: =IF(B9="","",VLOOKUP(B9,Hoja1!$A$2:$L$88,11,FALSE))
A10: 6 | C10: =IF(B10="","",VLOOKUP(B10,Hoja1!$A$2:$L$88,12,FALSE)) | D10: =IF(B10="","",VLOOKUP(B10,Hoja1!$A$2:$L$88,3,FALSE)) | E10: =IF(IF(B10="","",VLOOKUP(B10,Hoja1!$A$2:$L$88,4,FALSE))=0,"",IF(B10="","",VLOOKUP(B10,Hoja1!$A$2:$L$88,4,FALSE))) | F10: =IF(IF(B10="","",VLOOKUP(B10,Hoja1!$A$2:$L$88,5,FALSE))=0,"",IF(B10="","",VLOOKUP(B10,Hoja1!$A$2:$L$88,5,FALSE))) | G10: =IF(B10="","",VLOOKUP(B10,Hoja1!$A$2:$L$88,6,FALSE)) | H10: =IF(B10="","",VLOOKUP(B10,Hoja1!$A$2:$L$88,7,FALSE)) | I10: =IF(B10="","",VLOOKUP(B10,Hoja1!$A$2:$L$88,8,FALSE)) | J10: =IF(B10="","",VLOOKUP(B10,Hoja1!$A$2:$L$88,9,FALSE)) | K10: =IF(B10="","",VLOOKUP(B10,Hoja1!$A$2:$L$88,10,FALSE)) | L10: =IF(B10="","",VLOOKUP(B10,Hoja1!$A$2:$L$88,11,FALSE))
A11: 7 | C11: =IF(B11="","",VLOOKUP(B11,Hoja1!$A$2:$L$88,12,FALSE)) | D11: =IF(B11="","",VLOOKUP(B11,Hoja1!$A$2:$L$88,3,FALSE)) | E11: =IF(IF(B11="","",VLOOKUP(B11,Hoja1!$A$2:$L$88,4,FALSE))=0,"",IF(B11="","",VLOOKUP(B11,Hoja1!$A$2:$L$88,4,FALSE))) | F11: =IF(IF(B11="","",VLOOKUP(B11,Hoja1!$A$2:$L$88,5,FALSE))=0,"",IF(B11="","",VLOOKUP(B11,Hoja1!$A$2:$L$88,5,FALSE))) | G11: =IF(B11="","",VLOOKUP(B11,Hoja1!$A$2:$L$88,6,FALSE)) | H11: =IF(B11="","",VLOOKUP(B11,Hoja1!$A$2:$L$88,7,FALSE)) | I11: =IF(B11="","",VLOOKUP(B11,Hoja1!$A$2:$L$88,8,FALSE)) | J11: =IF(B11="","",VLOOKUP(B11,Hoja1!$A$2:$L$88,9,FALSE)) | K11: =IF(B11="","",VLOOKUP(B11,Hoja1!$A$2:$L$88,10,FALSE)) | L11: =IF(B11="","",VLOOKUP(B11,Hoja1!$A$2:$L$88,11,FALSE))
A12: 8 | C12: =IF(B12="","",VLOOKUP(B12,Hoja1!$A$2:$L$88,12,FALSE)) | D12: =IF(B12="","",VLOOKUP(B12,Hoja1!$A$2:$L$88,3,FALSE)) | E12: =IF(IF(B12="","",VLOOKUP(B12,Hoja1!$A$2:$L$88,4,FALSE))=0,"",IF(B12="","",VLOOKUP(B12,Hoja1!$A$2:$L$88,4,FALSE))) | F12: =IF(IF(B12="","",VLOOKUP(B12,Hoja1!$A$2:$L$88,5,FALSE))=0,"",IF(B12="","",VLOOKUP(B12,Hoja1!$A$2:$L$88,5,FALSE))) | G12: =IF(B12="","",VLOOKUP(B12,Hoja1!$A$2:$L$88,6,FALSE)) | H12: =IF(B12="","",VLOOKUP(B12,Hoja1!$A$2:$L$88,7,FALSE)) | I12: =IF(B12="","",VLOOKUP(B12,Hoja1!$A$2:$L$88,8,FALSE)) | J12: =IF(B12="","",VLOOKUP(B12,Hoja1!$A$2:$L$88,9,FALSE)) | K12: =IF(B12="","",VLOOKUP(B12,Hoja1!$A$2:$L$88,10,FALSE)) | L12: =IF(B12="","",VLOOKUP(B12,Hoja1!$A$2:$L$88,11,FALSE))
A13: 9 | C13: =IF(B13="","",VLOOKUP(B13,Hoja1!$A$2:$L$88,12,FALSE)) | D13: =IF(B13="","",VLOOKUP(B13,Hoja1!$A$2:$L$88,3,FALSE)) | E13: =IF(IF(B13="","",VLOOKUP(B13,Hoja1!$A$2:$L$88,4,FALSE))=0,"",IF(B13="","",VLOOKUP(B13,Hoja1!$A$2:$L$88,4,FALSE))) | F13: =IF(IF(B13="","",VLOOKUP(B13,Hoja1!$A$2:$L$88,5,FALSE))=0,"",IF(B13="","",VLOOKUP(B13,Hoja1!$A$2:$L$88,5,FALSE))) | G13: =IF(B13="","",VLOOKUP(B13,Hoja1!$A$2:$L$88,6,FALSE)) | H13: =IF(B13="","",VLOOKUP(B13,Hoja1!$A$2:$L$88,7,FALSE)) | I13: =IF(B13="","",VLOOKUP(B13,Hoja1!$A$2:$L$88,8,FALSE)) | J13: =IF(B13="","",VLOOKUP(B13,Hoja1!$A$2:$L$88,9,FALSE)) | K13: =IF(B13="","",VLOOKUP(B13,Hoja1!$A$2:$L$88,10,FALSE)) | L13: =IF(B13="","",VLOOKUP(B13,Hoja1!$A$2:$L$88,11,FALSE))
A14: 10 | C14: =IF(B14="","",VLOOKUP(B14,Hoja1!$A$2:$L$88,12,FALSE)) | D14: =IF(B14="","",VLOOKUP(B14,Hoja1!$A$2:$L$88,3,FALSE)) | E14: =IF(IF(B14="","",VLOOKUP(B14,Hoja1!$A$2:$L$88,4,FALSE))=0,"",IF(B14="","",VLOOKUP(B14,Hoja1!$A$2:$L$88,4,FALSE))) | F14: =IF(IF(B14="","",VLOOKUP(B14,Hoja1!$A$2:$L$88,5,FALSE))=0,"",IF(B14="","",VLOOKUP(B14,Hoja1!$A$2:$L$88,5,FALSE))) | G14: =IF(B14="","",VLOOKUP(B14,Hoja1!$A$2:$L$88,6,FALSE)) | H14: =IF(B14="","",VLOOKUP(B14,Hoja1!$A$2:$L$88,7,FALSE)) | I14: =IF(B14="","",VLOOKUP(B14,Hoja1!$A$2:$L$88,8,FALSE)) | J14: =IF(B14="","",VLOOKUP(B14,Hoja1!$A$2:$L$88,9,FALSE)) | K14: =IF(B14="","",VLOOKUP(B14,Hoja1!$A$2:$L$88,10,FALSE)) | L14: =IF(B14="","",VLOOKUP(B14,Hoja1!$A$2:$L$88,11,FALSE))
A15: 11 | C15: =IF(B15="","",VLOOKUP(B15,Hoja1!$A$2:$L$88,12,FALSE)) | D15: =IF(B15="","",VLOOKUP(B15,Hoja1!$A$2:$L$88,3,FALSE)) | E15: =IF(IF(B15="","",VLOOKUP(B15,Hoja1!$A$2:$L$88,4,FALSE))=0,"",IF(B15="","",VLOOKUP(B15,Hoja1!$A$2:$L$88,4,FALSE))) | F15: =IF(IF(B15="","",VLOOKUP(B15,Hoja1!$A$2:$L$88,5,FALSE))=0,"",IF(B15="","",VLOOKUP(B15,Hoja1!$A$2:$L$88,5,FALSE))) | G15: =IF(B15="","",VLOOKUP(B15,Hoja1!$A$2:$L$88,6,FALSE)) | H15: =IF(B15="","",VLOOKUP(B15,Hoja1!$A$2:$L$88,7,FALSE)) | I15: =IF(B15="","",VLOOKUP(B15,Hoja1!$A$2:$L$88,8,FALSE)) | J15: =IF(B15="","",VLOOKUP(B15,Hoja1!$A$2:$L$88,9,FALSE)) | K15: =IF(B15="","",VLOOKUP(B15,Hoja1!$A$2:$L$88,10,FALSE)) | L15: =IF(B15="","",VLOOKUP(B15,Hoja1!$A$2:$L$88,11,FALSE))
A16: 12 | C16: =IF(B16="","",VLOOKUP(B16,Hoja1!$A$2:$L$88,12,FALSE)) | D16: =IF(B16="","",VLOOKUP(B16,Hoja1!$A$2:$L$88,3,FALSE)) | E16: =IF(IF(B16="","",VLOOKUP(B16,Hoja1!$A$2:$L$88,4,FALSE))=0,"",IF(B16="","",VLOOKUP(B16,Hoja1!$A$2:$L$88,4,FALSE))) | F16: =IF(IF(B16="","",VLOOKUP(B16,Hoja1!$A$2:$L$88,5,FALSE))=0,"",IF(B16="","",VLOOKUP(B16,Hoja1!$A$2:$L$88,5,FALSE))) | G16: =IF(B16="","",VLOOKUP(B16,Hoja1!$A$2:$L$88,6,FALSE)) | H16: =IF(B16="","",VLOOKUP(B16,Hoja1!$A$2:$L$88,7,FALSE)) | I16: =IF(B16="","",VLOOKUP(B16,Hoja1!$A$2:$L$88,8,FALSE)) | J16: =IF(B16="","",VLOOKUP(B16,Hoja1!$A$2:$L$88,9,FALSE)) | K16: =IF(B16="","",VLOOKUP(B16,Hoja1!$A$2:$L$88,10,FALSE)) | L16: =IF(B16="","",VLOOKUP(B16,Hoja1!$A$2:$L$88,11,FALSE))
... A92: 88 | C92: =IF(B92="","",VLOOKUP(B92,Hoja1!$A$2:$L$88,12,FALSE)) | D92: =IF(B92="","",VLOOKUP(B92,Hoja1!$A$2:$L$88,3,FALSE)) | E92: =IF(IF(B92="","",VLOOKUP(B92,Hoja1!$A$2:$L$88,4,FALSE))=0,"",IF(B92="","",VLOOKUP(B92,Hoja1!$A$2:$L$88,4,FALSE))) | F92: =IF(IF(B92="","",VLOOKUP(B92,Hoja1!$A$2:$L$88,5,FALSE))=0,"",IF(B92="","",VLOOKUP(B92,Hoja1!$A$2:$L$88,5,FALSE))) | G92: =IF(B92="","",VLOOKUP(B92,Hoja1!$A$2:$L$88,6,FALSE)) | H92: =IF(B92="","",VLOOKUP(B92,Hoja1!$A$2:$L$88,7,FALSE)) | I92: =IF(B92="","",VLOOKUP(B92,Hoja1!$A$2:$L$88,8,FALSE)) | J92: =IF(B92="","",VLOOKUP(B92,Hoja1!$A$2:$L$88,9,FALSE)) | K92: =IF(B92="","",VLOOKUP(B92,Hoja1!$A$2:$L$88,10,FALSE)) | L92: =IF(B92="","",VLOOKUP(B92,Hoja1!$A$2:$L$88,11,FALSE))

Sheet Hoja1
A1: CÓDIGO | B1: ÁREA | C1: SUBÁREA | D1: SERVICIO | E1: SECCIÓN | F1: DENOMINACIÓN PUESTO | G1: GR. | H1: C.D. | I1: C.E. | J1: C.P. | K1: LOCALIDAD | L1: TIPO
A2: 11100103 | C2: SECRETARIA GENERAL | D2: ASUNTOS GENERALES | F2: ADMINISTRATIVO/A | G2: C1 | H2: 19 | I2: 42 | J2: 36 | K2: LEÓN | L2: VACANTE
A3: 11122101 | C3: SECRETARIA GENERAL | D3: ASUNTOS GENERALES | E3: REGISTRO | F3: JEFE/A DE NEGOCIADO | G3: C1/C2 | H3: 18 | I3: 36 | J3: 27 | K3: LEÓN | L3: VACANTE
A4: 11161101 | C4: SECRETARIA GENERAL | D4: ASUNTOS GENERALES | E4: TRANSPARENCIA,REL.INSTITUC.Y COMUNICACIONES | F4: JEFE/A DE NEGOCIADO | G4: C1 | H4: 20 | I4: 33 | J4: 27 | K4: LEÓN | L4: VACANTE
A5: 11301101 | C5: SECRETARIA GENERAL | D5: CONTRATACION Y PATRIMONIO | F5: JEFE/A DE NEGOCIADO | G5: C1 | H5: 20 | I5: 33 | J5: 27 | K5: LEÓN | L5: VACANTE
A6: 11332101 | C6: SECRETARIA GENERAL | D6: CONTRATACION Y PATRIMONIO | E6: CONTRATACIÓN Y PATRIMONIO | F6: JEFE/A DE NEGOCIADO | G6: C1 | H6: 20 | I6: 33 | J6: 27 | K6: LEÓN | L6: VACANTE
A7: 12000112 | C7: INTERVENCION | F7: ADMINISTRATIVO/A | G7: C1 | H7: 19 | I7: 42 | J7: 36 | K7: LEÓN | L7: VACANTE
A8: 12000117 | C8: INTERVENCION | F8: ADMINISTRATIVO/A | G8: C1 | H8: 19 | I8: 42 | J8: 36 | K8: LEÓN | L8: VACANTE
A9: 12421101 | C9: INTERVENCION | D9: FUNCIÓN INTERVENTORA | E9: SUBVENCIONES Y PLANES PROVINCIALES | F9: JEFE/A DE NEGOCIADO | G9: C1 | H9: 20 | I9: 33 | J9: 27 | K9: LEÓN | L9: VACANTE
A10: 13001101 | C10: TESORERIA | F10: JEFE/A DE NEGOCIADO | G10: C1 | H10: 20 | I10: 33 | J10: 27 | K10: LEÓN | L10: VACANTE
A11: 13100110 | C11: TESORERIA | D11: GESTIÓN, INSPEC.Y RECAUDAC.TRIBUTARIA | F11: ADMINISTRATIVO/A | G11: C1 | H11: 19 | I11: 42 | J11: 36 | K11: LEÓN | L11: VACANTE
A12: 13100117 | C12: TESORERIA | D12: GESTIÓN, INSPEC.Y RECAUDAC.TRIBUTARIA | F12: ADMINISTRATIVO/A | G12: C1 | H12: 19 | I12: 42 | J12: 36 | K12: LEÓN | L12: VACANTE
A13: 13100118 | C13: TESORERIA | D13: GESTIÓN, INSPEC.Y RECAUDAC.TRIBUTARIA | F13: ADMINISTRATIVO/A | G13: C1 | H13: 19 | I13: 42 | J13: 36 | K13: LEÓN | L13: VACANTE
A14: 30200103 | D14: EMPRESA, CONOCIMIENTOS E INNOV | F14: ADMINISTRATIVO/A | G14: C1 | H14: 19 | I14: 42 | J14: 36 | K14: LEÓN | L14: VACANTE
A15: 30301101 | D15: TURISMO | F15: JEFE/A DE NEGOCIADO | G15: C1 | H15: 20 | I15: 33 | J15: 27 | K15: LEÓN | L15: VACANTE
A16: 30302101 | D16: TURISMO | F16: JEFE/A DE NEGOCIADO | G16: C1 | H16: 20 | I16: 33 | J16: 27 | K16: LEÓN | L16: VACANTE
A17: 40100112 | D17: COOPERACION | F17: ADMINISTRATIVO/A | G17: C1 | H17: 19 | I17: 42 | J17: 36 | K17: LEÓN | L17: VACANTE
A18: 40100113 | D18: COOPERACION | F18: ADMINISTRATIVO/A | G18: C1 | H18: 19 | I18: 42 | J18: 36 | K18: LEÓN | L18: VACANTE
A19: 40200143 | D19: SERVICIO ASISTENCIA A MUNICIPIOS | F19: ADMINISTRATIVO/A | G19: C1 | H19: 19 | I19: 42 | J19: 36 | K19: LEÓN | L19: VACANTE
A20: 40200144 | D20: SERVICIO ASISTENCIA A MUNICIPIOS | F20: ADMINISTRATIVO/A | G20: C1 | H20: 19 | I20: 42 | J20: 36 | K20: LEÓN | L20: VACANTE
A21: 40200145 | D21: SERVICIO ASISTENCIA A MUNICIPIOS | F21: ADMINISTRATIVO/A | G21: C1 | H21: 19 | I21: 42 | J21: 36 | K21: LEÓN | L21: VACANTE
A22: 40203101 | D22: SERVICIO ASISTENCIA A MUNICIPIOS | F22: JEFE/A DE NEGOCIADO | G22: C1 | H22: 20 | I22: 33 | J22: 27 | K22: LEÓN | L22: VACANTE
A23: 40204101 | D23: SERVICIO ASISTENCIA A MUNICIPIOS | F23: JEFE/A DE NEGOCIADO | G23: C1 | H23: 20 | I23: 33 | J23: 27 | K23: LEÓN | L23: VACANTE
A24: 40300108 | D24: FOMENTO | F24: ADMINISTRATIVO/A | G24: C1 | H24: 19 | I24: 42 | J24: 36 | K24: LEÓN | L24: VACANTE
A25: 40300109 | D25: FOMENTO | F25: ADMINISTRATIVO/A | G25: C1 | H25: 19 | I25: 42 | J25: 36 | K25: LEÓN | L25: VACANTE
... A30: 50100112 | D30: DERECHOS SOCIALES | F30: ADMINISTRATIVO/A | G30: C1 | H30: 19 | I30: 42 | J30: 36 | K30: LEÓN | L30: VACANTE
A31: 50121101 | D31: DERECHOS SOCIALES | E31: COORDINACIÓN SERVICIOS BÁSICOS | F31: JEFE/A DE NEGOCIADO | G31: C1 | H31: 20 | I31: 33 | J31: 27 | K31: LEÓN | L31: VACANTE
A32: 50151101 | D32: DERECHOS SOCIALES | E32: DEPENDENCIA | F32: JEFE/A DE NEGOCIADO | G32: C1/C2 | H32: 18 | I32: 36 | J32: 27 | K32: LEÓN | L32: VACANTE
A33: 50201101 | D33: CENTROS ATENCIÓN ESPECIALIZADA | F33: JEFE/A DE NEGOCIADO | G33: C1 | H33: 20 | I33: 33 | J33: 27 | K33: LEÓN | L33: VACANTE
A34: 50210114 | D34: CENTROS ATENCIÓN ESPECIALIZADA | E34: CENTRO NUESTRA SEÑORA DEL VALL | F34: ADMINISTRADOR/A | G34: C1 | H34: 20 | I34: 33 | J34: 27 | K34: LA BAÑEZA | L34: VACANTE
A35: 60100106 | D35: DEPORTES | F35: ADMINISTRATIVO/A | G35: C1 | H35: 19 | I35: 42 | J35: 36 | K35: LEÓN | L35: VACANTE
A36: 60100107 | D36: DEPORTES | F36: ADMINISTRATIVO/A | G36: C1 | H36: 19 | I36: 42 | J36: 36 | K36: LEÓN | L36: VACANTE
A37: 61400104 | C37: ILC | D37: INTERVENCIÓN - FISCALIZACIÓN | F37: ADMINISTRATIVO/A | G37: C1 | H37: 19 | I37: 42 | J37: 36 | K37: LEÓN | L37: VACANTE
A38: 11100104 | C38: SECRETARIA GENERAL | D38: ASUNTOS GENERALES | F38: ADMINISTRATIVO/A | G38: C1 | H38: 19 | I38: 42 | J38: 36 | K38: LEÓN | L38: A RESULTAS
A39: 11111101 | C39: SECRETARIA GENERAL | D39: ASUNTOS GENERALES | E39: FE PUBLICA | F39: JEFE/A DE NEGOCIADO | G39: C1 | H39: 20 | I39: 33 | J39: 27 | K39: LEÓN | L39: A RESULTAS
A40: 11121101 | C40: SECRETARIA GENERAL | D40: ASUNTOS GENERALES | E40: REGISTRO | F40: JEFE/A DE NEGOCIADO | G40: C1 | H40: 20 | I40: 33 | J40: 27 | K40: LEÓN | L40: A RESULTAS
A41: 11123101 | C41: SECRETARIA GENERAL | D41: ASUNTOS GENERALES | E41: REGISTRO | F41: JEFE/A DE NEGOCIADO | G41: C1/C2 | H41: 18 | I41: 36 | J41: 27 | K41: PONFERRADA | L41: A RESULTAS
A42: 11141101 | C42: SECRETARIA GENERAL | D42: ASUNTOS GENERALES | E42: INFORMES Y DOCUMENTACION ADMVA. | F42: JEFE/A DE NEGOCIADO | G42: C1/C2 | H42: 18 | I42: 36 | J42: 27 | K42: LEÓN | L42: A RESULTAS
A43: 11333101 | C43: SECRETARIA GENERAL | D43: CONTRATACION Y PATRIMONIO | E43: CONTRATACIÓN Y PATRIMONIO | F43: JEFE/A DE NEGOCIADO | G43: C1/C2 | H43: 18 | I43: 36 | J43: 27 | K43: LEÓN | L43: A RESULTAS
A44: 12000110 | C44: INTERVENCION | F44: ADMINISTRATIVO/A | G44: C1 | H44: 19 | I44: 42 | J44: 36 | K44: LEÓN | L44: A RESULTAS
A45: 12000111 | C45: INTERVENCION | F45: ADMINISTRATIVO/A | G45: C1 | H45: 19 | I45: 42 | J45: 36 | K45: LEÓN | L45: A RESULTAS
A46: 12000116 | C46: INTERVENCION | F46: ADMINISTRATIVO/A | G46: C1 | H46: 19 | I46: 42 | J46: 36 | K46: LEÓN | L46: A RESULTAS
A47: 12411101 | C47: INTERVENCION | D47: FUNCIÓN INTERVENTORA | E47: CONTRATACIÓN, PATRIMONIO Y O.GASTOS | F47: JEFE/A DE NEGOCIADO | G47: C1 | H47: 20 | I47: 33 | J47: 27 | K47: LEÓN | L47: A RESULTAS
A48: 12412101 | C48: INTERVENCION | D48: FUNCIÓN INTERVENTORA | E48: CONTRATACIÓN, PATRIMONIO Y O.GASTOS | F48: JEFE/A DE NEGOCIADO | G48: C1 | H48: 20 | I48: 33 | J48: 27 | K48: LEÓN | L48: A RESULTAS
A49: 12414101 | C49: INTERVENCION | D49: FUNCIÓN INTERVENTORA | E49: CONTRATACIÓN, PATRIMONIO Y O.GASTOS | F49: JEFE/A DE NEGOCIADO | G49: C1/C2 | H49: 18 | I49: 36 | J49: 27 | K49: LEÓN | L49: A RESULTAS
A50: 12422101 | C50: INTERVENCION | D50: FUNCIÓN INTERVENTORA | E50: SUBVENCIONES Y PLANES PROVINCIALES | F50: JEFE/A DE NEGOCIADO | G50: C1 | H50: 20 | I50: 33 | J50: 27 | K50: LEÓN | L50: A RESULTAS
A51: 12423101 | C51: INTERVENCION | D51: FUNCIÓN INTERVENTORA | E51: SUBVENCIONES Y PLANES PROVINCIALES | F51: JEFE/A DE NEGOCIADO | G51: C1/C2 | H51: 18 | I51: 36 | J51: 27 | K51: LEÓN | L51: A RESULTAS
A52: 12431101 | C52: INTERVENCION | D52: FUNCIÓN INTERVENTORA | E52: PLANES PROVINCIALES Y OTRAS TRANSF. | F52: JEFE/A DE NEGOCIADO | G52: C1/C2 | H52: 18 | I52: 36 | J52: 27 | K52: LEÓN | L52: A RESULTAS
A53: 12511101 | C53: INTERVENCION | D53: CONTROL FINANCIERO | E53: CONTROL FINANCIERO | F53: JEFE/A DE NEGOCIADO | G53: C1 | H53: 20 | I53: 33 | J53: 27 | K53: LEÓN | L53: A RESULTAS
A54: 12611101 | C54: INTERVENCION | D54: CONTABILIDAD Y GESTIÓN PRESUPUESTARIA | E54: GASTOS Y PRESUPUESTOS | F54: JEFE/A DE NEGOCIADO | G54: C1 | H54: 20 | I54: 33 | J54: 27 | K54: LEÓN | L54: A RESULTAS
A55: 12612101 | C55: INTERVENCION | D55: CONTABILIDAD Y GESTIÓN PRESUPUESTARIA | E55: GASTOS Y PRESUPUESTOS | F55: JEFE/A DE NEGOCIADO | G55: C1 | H55: 20 | I55: 33 | J55: 27 | K55: LEÓN | L55: A RESULTAS
A56: 12613101 | C56: INTERVENCION | D56: CONTABILIDAD Y GESTIÓN PRESUPUESTARIA | E56: GASTOS Y PRESUPUESTOS | F56: JEFE/A DE NEGOCIADO | G56: C1 | H56: 20 | I56: 33 | J56: 27 | K56: LEÓN | L56: A RESULTAS
A57: 13000104 | C57: TESORERIA | F57: ADMINISTRATIVO/A | G57: C1 | H57: 19 | I57: 42 | J57: 36 | K57: LEÓN | L57: A RESULTAS
A58: 13011101 | C58: TESORERIA | E58: TESORERIA | F58: JEFE/A DE NEGOCIADO | G58: C1 | H58: 20 | I58: 33 | J58: 27 | K58: LEÓN | L58: A RESULTAS
A59: 13100109 | C59: TESORERIA | D59: GESTIÓN, INSPEC.Y RECAUDAC.TRIBUTARIA | F59: ADMINISTRATIVO/A | G59: C1 | H59: 19 | I59: 42 | J59: 36 | K59: LEÓN | L59: A RESULTAS
A60: 13100113 | C60: TESORERIA | D60: GESTIÓN, INSPEC.Y RECAUDAC.TRIBUTARIA | F60: ADMINISTRATIVO/A | G60: C1 | H60: 19 | I60: 42 | J60: 36 | K60: LEÓN | L60: A RESULTAS
A61: 20103101 | D61: RECURSOS HUMANOS | F61: JEFE/A DE NEGOCIADO | G61: C1 | H61: 20 | I61: 33 | J61: 27 | K61: LEÓN | L61: A RESULTAS
A62: 20112101 | D62: RECURSOS HUMANOS | E62: SELECCION Y PROVISION | F62: JEFE/A DE NEGOCIADO | G62: C1/C2 | H62: 18 | I62: 36 | J62: 27 | K62: LEÓN | L62: A RESULTAS
A63: 20122101 | D63: RECURSOS HUMANOS | E63: NOMINAS Y SEGURIDAD SOCIAL | F63: JEFE/A DE NEGOCIADO | G63: C1/C2 | H63: 18 | I63: 36 | J63: 27 | K63: LEÓN | L63: A RESULTAS
A64: 20171101 | D64: RECURSOS HUMANOS | E64: ASESORAMIENTO Y AA. GENERALES | F64: JEFE/A DE NEGOCIADO | G64: C1 | H64: 20 | I64: 33 | J64: 27 | K64: LEÓN | L64: A RESULTAS
A65: 30100105 | D65: DESARROLLO RURAL Y M. AMBIENTE | F65: ADMINISTRATIVO/A | G65: C1 | H65: 19 | I65: 42 | J65: 36 | K65: LEÓN | L65: A RESULTAS
A66: 30105101 | D66: DESARROLLO RURAL Y M. AMBIENTE | F66: JEFE/A DE NEGOCIADO | G66: C1 | H66: 20 | I66: 33 | J66: 27 | K66: LEÓN | L66: A RESULTAS
A67: 30111101 | D67: DESARROLLO RURAL Y M. AMBIENTE | E67: AGRICULTURA | F67: JEFE/A DE NEGOCIADO | G67: C1 | H67: 20 | I67: 33 | J67: 27 | K67: LEÓN | L67: A RESULTAS
A68: 30201101 | D68: EMPRESA, CONOCIMIENTOS E INNOV | F68: JEFE/A DE NEGOCIADO | G68: C1 | H68: 20 | I68: 33 | J68: 27 | K68: LEÓN | L68: A RESULTAS
A69: 30231101 | D69: EMPRESA, CONOCIMIENTOS E INNOV | E69: OFICINA DE PROYECTOS EUROPEOS | F69: JEFE/A DE NEGOCIADO | G69: C1/C2 | H69: 18 | I69: 36 | J69: 27 | K69: LEÓN | L69: A RESULTAS
A70: 30300104 | D70: TURISMO | F70: ADMINISTRATIVO/A | G70: C1 | H70: 19 | I70: 42 | J70: 36 | K70: LEÓN | L70: A RESULTAS
A71: 40100103 | D71: COOPERACION | F71: ADMINISTRATIVO/A | G71: C1 | H71: 19 | I71: 42 | J71: 36 | K71: LEÓN | L71: A RESULTAS
A72: 40102101 | D72: COOPERACION | F72: JEFE/A DE NEGOCIADO | G72: C1/C2 | H72: 18 | I72: 36 | J72: 27 | K72: LEÓN | L72: A RESULTAS
A73: 40111101 | D73: COOPERACION | E73: COOPERACION | F73: JEFE/A DE NEGOCIADO | G73: C1 | H73: 20 | I73: 33 | J73: 27 | K73: LEÓN | L73: A RESULTAS
A74: 40200115 | D74: SERVICIO ASISTENCIA A MUNICIPIOS | F74: ADMINISTRATIVO/A | G74: C1 | H74: 20 | I74: 36 | J74: 27 | K74: LEÓN | L74: A RESULTAS
A75: 40302101 | D75: FOMENTO | F75: JEFE/A DE NEGOCIADO | G75: C1 | H75: 20 | I75: 33 | J75: 27 | K75: LEÓN | L75: A RESULTAS
A76: 40400111 | D76: PARQUE MÓVIL | F76: ADMINISTRATIVO/A | G76: C1 | H76: 19 | I76: 42 | J76: 36 | K76: LEÓN | L76: A RESULTAS
A77: 40501101 | D77: PREVENCIÓN, EXTINCIÓN DE INCENDIOS Y SALVAMENTO | F77: JEFE/A DE NEGOCIADO | G77: C1 | H77: 20 | I77: 33 | J77: 27 | K77: LEÓN | L77: A RESULTAS
A78: 50100110 | D78: DERECHOS SOCIALES | F78: ADMINISTRATIVO/A | G78: C1 | H78: 19 | I78: 42 | J78: 36 | K78: LEÓN | L78: A RESULTAS
A79: 50100113 | D79: DERECHOS SOCIALES | F79: ADMINISTRATIVO/A | G79: C1 | H79: 19 | I79: 42 | J79: 36 | K79: LEÓN | L79: A RESULTAS
A80: 50100114 | D80: DERECHOS SOCIALES | F80: ADMINISTRATIVO/A | G80: C1 | H80: 19 | I80: 42 | J80: 36 | K80: LEÓN | L80: A RESULTAS
A81: 50111101 | D81: DERECHOS SOCIALES | E81: PROGRAMAS SERVICIOS BÁSICOS | F81: JEFE/A DE NEGOCIADO | G81: C1 | H81: 20 | I81: 33 | J81: 27 | K81: LEÓN | L81: A RESULTAS
A82: 50113101 | D82: DERECHOS SOCIALES | E82: PROGRAMAS SERVICIOS BÁSICOS | F82: JEFE/A DE NEGOCIADO | G82: C1 | H82: 20 | I82: 33 | J82: 27 | K82: LEÓN | L82: A RESULTAS
A83: 50220133 | D83: CENTROS ATENCIÓN ESPECIALIZADA | E83: COSAMAI | F83: ADMINISTRADOR/A | G83: C1 | H83: 20 | I83: 33 | J83: 27 | K83: ASTORGA | L83: A RESULTAS
A84: 50240114 | D84: CENTROS ATENCIÓN ESPECIALIZADA | E84: RESIDENCIA SANTA LUISA | F84: ADMINISTRADOR/A | G84: C1 | H84: 20 | I84: 33 | J84: 27 | K84: LEÓN | L84: A RESULTAS
A85: 60201101 | D85: JUVENTUD | F85: JEFE/A DE NEGOCIADO | G85: C1/C2 | H85: 18 | I85: 36 | J85: 27 | K85: LEÓN | L85: A RESULTAS
A86: 61100102 | C86: ILC | D86: UNIDAD ADMINISTRATIVA | F86: ADMINISTRATIVO/A | G86: C1 | H86: 19 | I86: 42 | J86: 36 | K86: LEÓN | L86: A RESULTAS
A87: 61102101 | C87: ILC | D87: UNIDAD ADMINISTRATIVA | F87: JEFE/A DE NEGOCIADO | G87: C1 | H87: 20 | I87: 33 | J87: 27 | K87: LEÓN | L87: A RESULTAS
A88: 61401101 | C88: ILC | D88: INTERVENCIÓN - FISCALIZACIÓN | F88: JEFE/A DE NEGOCIADO | G88: C1 | H88: 20 | I88: 33 | J88: 27 | K88: LEÓN | L88: A RESULTAS
